BEGIN:VCALENDAR
VERSION:2.0
PRODID:-//DC Ranch - ECPv6.6.4.2//NONSGML v1.0//EN
CALSCALE:GREGORIAN
METHOD:PUBLISH
X-ORIGINAL-URL:https://dcranch.com
X-WR-CALDESC:Events for DC Ranch
REFRESH-INTERVAL;VALUE=DURATION:PT1H
X-Robots-Tag:noindex
X-PUBLISHED-TTL:PT1H
BEGIN:VTIMEZONE
TZID:America/Phoenix
BEGIN:STANDARD
TZOFFSETFROM:-0700
TZOFFSETTO:-0700
TZNAME:MST
DTSTART:20230101T000000
END:STANDARD
END:VTIMEZONE
BEGIN:VEVENT
DTSTART;TZID=America/Phoenix:20230811T060000
DTEND;TZID=America/Phoenix:20230811T090000
DTSTAMP:20260423T015306
CREATED:20230421T205205Z
LAST-MODIFIED:20230822T171740Z
UID:10006802-1691733600-1691744400@dcranch.com
SUMMARY:Pickleball Club
DESCRIPTION:Join neighbors and friends for Pickleball drop-in play. All levels are welcome. No RSVP required. \nPlease bring your own paddle and balls. Paddles are also available to check out at the front desk.
URL:https://dcranch.com/event/pickleball-club-3/2023-08-11/
LOCATION:Desert Camp Community Center\, 9260 E. Desert Camp Dr.\, Scottsdale\, AZ\, 85255\, United States
CATEGORIES:Fitness & Wellness
GEO:33.6732335;-111.8794908
X-APPLE-STRUCTURED-LOCATION;VALUE=URI;X-ADDRESS=Desert Camp Community Center 9260 E. Desert Camp Dr. Scottsdale AZ 85255 United States;X-APPLE-RADIUS=500;X-TITLE=9260 E. Desert Camp Dr.:geo:-111.8794908,33.6732335
END:VEVENT
BEGIN:VEVENT
DTSTART;TZID=America/Phoenix:20230811T090000
DTEND;TZID=America/Phoenix:20230811T100000
DTSTAMP:20260423T015306
CREATED:20230802T222332Z
LAST-MODIFIED:20230802T222333Z
UID:10006754-1691744400-1691748000@dcranch.com
SUMMARY:Aqua Fitness
DESCRIPTION:Water fitness is an excellent way to get a low-impact cardio workout\, tone & strengthen muscles and work your core. Come join in the fun and go at your own pace! All residents using the pool are required to check in at the front desk. Remember to bring a towel\, water bottle and sunscreen. \nRegister - August
URL:https://dcranch.com/event/aqua-fitness-3/
LOCATION:Desert Camp Community Center\, 9260 E. Desert Camp Dr.\, Scottsdale\, AZ\, 85255\, United States
CATEGORIES:Fitness & Wellness
GEO:33.6732335;-111.8794908
X-APPLE-STRUCTURED-LOCATION;VALUE=URI;X-ADDRESS=Desert Camp Community Center 9260 E. Desert Camp Dr. Scottsdale AZ 85255 United States;X-APPLE-RADIUS=500;X-TITLE=9260 E. Desert Camp Dr.:geo:-111.8794908,33.6732335
END:VEVENT
BEGIN:VEVENT
DTSTART;TZID=America/Phoenix:20230811T090000
DTEND;TZID=America/Phoenix:20230811T100000
DTSTAMP:20260423T015306
CREATED:20241028T223037Z
LAST-MODIFIED:20241028T223037Z
UID:10010424-1691744400-1691748000@dcranch.com
SUMMARY:Aqua Fit
DESCRIPTION:Water fitness is an excellent way to get a low-impact cardio workout\, tone & strengthen muscles and work your core. Come join in the fun and go at your own pace! All residents using the pool are required to check in at the front desk. Remember to bring a towel\, water bottle and sunscreen. \nRegister-Jan.\nRegister-Feb.
URL:https://dcranch.com/event/aqua-fit/2023-08-11/
LOCATION:Desert Camp Community Center\, 9260 E. Desert Camp Dr.\, Scottsdale\, AZ\, 85255\, United States
CATEGORIES:Fitness & Wellness
GEO:33.6732335;-111.8794908
X-APPLE-STRUCTURED-LOCATION;VALUE=URI;X-ADDRESS=Desert Camp Community Center 9260 E. Desert Camp Dr. Scottsdale AZ 85255 United States;X-APPLE-RADIUS=500;X-TITLE=9260 E. Desert Camp Dr.:geo:-111.8794908,33.6732335
END:VEVENT
END:VCALENDAR