BEGIN:VCALENDAR
VERSION:2.0
PRODID:-//DC Ranch - ECPv6.6.4.2//NONSGML v1.0//EN
CALSCALE:GREGORIAN
METHOD:PUBLISH
X-WR-CALNAME:DC Ranch
X-ORIGINAL-URL:https://dcranch.com
X-WR-CALDESC:Events for DC Ranch
REFRESH-INTERVAL;VALUE=DURATION:PT1H
X-Robots-Tag:noindex
X-PUBLISHED-TTL:PT1H
BEGIN:VTIMEZONE
TZID:America/Phoenix
BEGIN:STANDARD
TZOFFSETFROM:-0700
TZOFFSETTO:-0700
TZNAME:MST
DTSTART:20260101T000000
END:STANDARD
END:VTIMEZONE
BEGIN:VEVENT
DTSTART;TZID=America/Phoenix:20260420T150000
DTEND;TZID=America/Phoenix:20260420T170000
DTSTAMP:20260420T013203
CREATED:20251210T164535Z
LAST-MODIFIED:20260115T204448Z
UID:10016029-1776697200-1776704400@dcranch.com
SUMMARY:Community Patrol & Gate Access Committee Meeting
DESCRIPTION:Residents may join via Zoom.
URL:https://dcranch.com/event/community-patrol-gate-access-committee-meeting-4/2026-04-20/
LOCATION:The Ranch Office\, 18867 N. Thompson Peak Parkway\, Suite 100\, Scottsdale\, AZ\, 85255\, United States
CATEGORIES:Community Meetings
END:VEVENT
BEGIN:VEVENT
DTSTART;TZID=America/Phoenix:20260518T150000
DTEND;TZID=America/Phoenix:20260518T170000
DTSTAMP:20260420T013203
CREATED:20251210T164535Z
LAST-MODIFIED:20260115T204448Z
UID:10016030-1779116400-1779123600@dcranch.com
SUMMARY:Community Patrol & Gate Access Committee Meeting
DESCRIPTION:Residents may join via Zoom.
URL:https://dcranch.com/event/community-patrol-gate-access-committee-meeting-4/2026-05-18/
LOCATION:The Ranch Office\, 18867 N. Thompson Peak Parkway\, Suite 100\, Scottsdale\, AZ\, 85255\, United States
CATEGORIES:Community Meetings
END:VEVENT
BEGIN:VEVENT
DTSTART;TZID=America/Phoenix:20260615T150000
DTEND;TZID=America/Phoenix:20260615T170000
DTSTAMP:20260420T013203
CREATED:20251210T164535Z
LAST-MODIFIED:20260115T204448Z
UID:10016031-1781535600-1781542800@dcranch.com
SUMMARY:Community Patrol & Gate Access Committee Meeting
DESCRIPTION:Residents may join via Zoom.
URL:https://dcranch.com/event/community-patrol-gate-access-committee-meeting-4/2026-06-15/
LOCATION:The Ranch Office\, 18867 N. Thompson Peak Parkway\, Suite 100\, Scottsdale\, AZ\, 85255\, United States
CATEGORIES:Community Meetings
END:VEVENT
BEGIN:VEVENT
DTSTART;TZID=America/Phoenix:20260720T150000
DTEND;TZID=America/Phoenix:20260720T170000
DTSTAMP:20260420T013203
CREATED:20251210T164535Z
LAST-MODIFIED:20260115T204448Z
UID:10016032-1784559600-1784566800@dcranch.com
SUMMARY:Community Patrol & Gate Access Committee Meeting
DESCRIPTION:Residents may join via Zoom.
URL:https://dcranch.com/event/community-patrol-gate-access-committee-meeting-4/2026-07-20/
LOCATION:The Ranch Office\, 18867 N. Thompson Peak Parkway\, Suite 100\, Scottsdale\, AZ\, 85255\, United States
CATEGORIES:Community Meetings
END:VEVENT
BEGIN:VEVENT
DTSTART;TZID=America/Phoenix:20260817T150000
DTEND;TZID=America/Phoenix:20260817T170000
DTSTAMP:20260420T013203
CREATED:20251210T164535Z
LAST-MODIFIED:20260115T204448Z
UID:10016033-1786978800-1786986000@dcranch.com
SUMMARY:Community Patrol & Gate Access Committee Meeting
DESCRIPTION:Residents may join via Zoom.
URL:https://dcranch.com/event/community-patrol-gate-access-committee-meeting-4/2026-08-17/
LOCATION:The Ranch Office\, 18867 N. Thompson Peak Parkway\, Suite 100\, Scottsdale\, AZ\, 85255\, United States
CATEGORIES:Community Meetings
END:VEVENT
BEGIN:VEVENT
DTSTART;TZID=America/Phoenix:20260921T150000
DTEND;TZID=America/Phoenix:20260921T170000
DTSTAMP:20260420T013203
CREATED:20251210T164535Z
LAST-MODIFIED:20260115T204448Z
UID:10016034-1790002800-1790010000@dcranch.com
SUMMARY:Community Patrol & Gate Access Committee Meeting
DESCRIPTION:Residents may join via Zoom.
URL:https://dcranch.com/event/community-patrol-gate-access-committee-meeting-4/2026-09-21/
LOCATION:The Ranch Office\, 18867 N. Thompson Peak Parkway\, Suite 100\, Scottsdale\, AZ\, 85255\, United States
CATEGORIES:Community Meetings
END:VEVENT
BEGIN:VEVENT
DTSTART;TZID=America/Phoenix:20261019T150000
DTEND;TZID=America/Phoenix:20261019T170000
DTSTAMP:20260420T013203
CREATED:20251210T164535Z
LAST-MODIFIED:20260115T204448Z
UID:10016035-1792422000-1792429200@dcranch.com
SUMMARY:Community Patrol & Gate Access Committee Meeting
DESCRIPTION:Residents may join via Zoom.
URL:https://dcranch.com/event/community-patrol-gate-access-committee-meeting-4/2026-10-19/
LOCATION:The Ranch Office\, 18867 N. Thompson Peak Parkway\, Suite 100\, Scottsdale\, AZ\, 85255\, United States
CATEGORIES:Community Meetings
END:VEVENT
BEGIN:VEVENT
DTSTART;TZID=America/Phoenix:20261116T150000
DTEND;TZID=America/Phoenix:20261116T170000
DTSTAMP:20260420T013203
CREATED:20251210T164535Z
LAST-MODIFIED:20260115T204448Z
UID:10016036-1794841200-1794848400@dcranch.com
SUMMARY:Community Patrol & Gate Access Committee Meeting
DESCRIPTION:Residents may join via Zoom.
URL:https://dcranch.com/event/community-patrol-gate-access-committee-meeting-4/2026-11-16/
LOCATION:The Ranch Office\, 18867 N. Thompson Peak Parkway\, Suite 100\, Scottsdale\, AZ\, 85255\, United States
CATEGORIES:Community Meetings
END:VEVENT
BEGIN:VEVENT
DTSTART;TZID=America/Phoenix:20261221T150000
DTEND;TZID=America/Phoenix:20261221T170000
DTSTAMP:20260420T013203
CREATED:20251210T164535Z
LAST-MODIFIED:20260115T204448Z
UID:10016037-1797865200-1797872400@dcranch.com
SUMMARY:Community Patrol & Gate Access Committee Meeting
DESCRIPTION:Residents may join via Zoom.
URL:https://dcranch.com/event/community-patrol-gate-access-committee-meeting-4/2026-12-21/
LOCATION:The Ranch Office\, 18867 N. Thompson Peak Parkway\, Suite 100\, Scottsdale\, AZ\, 85255\, United States
CATEGORIES:Community Meetings
END:VEVENT
END:VCALENDAR